Workbook

Sheet Список группы
B1: Группа 16И | E1: спец. 09.02.04
E2: "Информационные системы"
A5: 1 | B5: 006564 | C5: Викторова | D5: Дарья | E5: Андреевна
A6: 2 | B6: 006681 | C6: Галиакбарова | D6: Алия | E6: Наилевна
A7: 3 | B7: 006682 | C7: Гималетдинов | D7: Фаниль | E7: Фанисович
A8: 4 | B8: 006683 | C8: Гурьянов | D8: Сергей | E8: Александрович
A9: 5 | B9: 006684 | C9: Давлетгараев | D9: Фидаиль | E9: Фердинандович
A10: 6 | B10: 006685 | C10: Данилин | D10: Георгий | E10: Дмитриевич
A11: 7 | C11: Жильцов | D11: Егор | E11: Максимович
A12: 8 | B12: 006686 | C12: Заляев | D12: Камиль | E12: Зиракович
A13: 9 | B13: 005686 | C13: Ильин | D13: Роберт | E13: Анатольевич
A14: 10 | B14: 006692 | C14: Рахимова | D14: Карина | E14: Рамилевна
A15: 11 | B15: 006693 | C15: Салахутдинов | D15: Айдар | E15: Айратович
A16: 12 | B16: 006694 | C16: Сапельникова | D16: Елизавета | E16: Андреевна
A17: 13 | B17: 006695 | C17: Тазмиев | D17: Инсаф | E17: Нурсилевич
A18: 14 | B18: 006696 | C18: Тимергалиев | D18: Ильсаф | E18: Фаннурович
A19: 15 | B19: 006697 | C19: Тихонов | D19: Степан | E19: Олегович | F19: 348/У от 22.10.2018 восст.
A20: 16 | B20: 006698 | C20: Хакимзянов | D20: Нияз | E20: Фидаилевич
A21: 17 | B21: 006565 | C21: Хафизов | D21: Рамиль | E21: Русланович
A22: 18 | B22: 006699 | C22: Хисамиев | D22: Тимофей | E22: Андреевич | F22: 82/У от 16.03.2020 отч.
A23: 19 | B23: 006700 | C23: Хуснутдинова | D23: Диляра | E23: Рамилевна
A24: 20 | B24: 006701 | C24: Шакирова | D24: Ландыш | E24: Ильхамовна | F24: 258/У 03.09.2018 смена фам.
A25: 21 | B25: 006433 | C25: Шакирова | D25: Эндже | E25: Раисовна
A26: 22 | B26: 006700 | C26: Шамсутдинов | D26: Рауф | E26: Нафкатович
A27: 23 | B27: 006701 | C27: Ярусов | D27: Даниил | E27: Евгеньевич
A28: 24
A29: 25
A38: Выпуск-

Sheet Сводная ведомость
A1: Государственное автономное профессиональное образовательное учреждение
A2: "Казанский авиационно-технический колледж имени П.В. Дементьева"
A4: СВОДНАЯ ВЕДОМОСТЬ ПРОФЕССИОНАЛЬГО МОДУЛЯ
A7: код и название модуля
A9: Специальность/профессии | C9: ='Список группы'!E1&'Список группы'!E2 -> спец. 09.02.04"Информационные системы"
C10: код и наименование специальности/профессии
A11: ='Список группы'!B1 -> Группа 16И | C11: , курс обучения
A14: № п/п | B14: Ф.И.О. студента | C14: Результаты аттестации | G14: Курсовая работа / проект | H14: Практика учебная | I14: Практика производственная | J14: Экзамен (квалификационный) отметка | K14: Вид профессиональной деятельности (освоен/не освоен)
C15: МДК _________ | D15: МДК _________ | E15: МДК _________ | F15: МДК _________
A16: 1 | B16: ='Список группы'!C5&" "&LEFT('Список группы'!D5)&"."&LEFT('Список группы'!E5) -> Викторова Д.А
A17: 2 | B17: ='Список группы'!C6&" "&LEFT('Список группы'!D6)&"."&LEFT('Список группы'!E6) -> Галиакбарова А.Н
A18: 3 | B18: ='Список группы'!C7&" "&LEFT('Список группы'!D7)&"."&LEFT('Список группы'!E7) -> Гималетдинов Ф.Ф
A19: 4 | B19: ='Список группы'!C8&" "&LEFT('Список группы'!D8)&"."&LEFT('Список группы'!E8) -> Гурьянов С.А
A20: 5 | B20: ='Список группы'!C9&" "&LEFT('Список группы'!D9)&"."&LEFT('Список группы'!E9) -> Давлетгараев Ф.Ф
A21: 6 | B21: ='Список группы'!C10&" "&LEFT('Список группы'!D10)&"."&LEFT('Список группы'!E10) -> Данилин Г.Д
A22: 7 | B22: ='Список группы'!C11&" "&LEFT('Список группы'!D11)&"."&LEFT('Список группы'!E11) -> Жильцов Е.М
A23: 8 | B23: ='Список группы'!C12&" "&LEFT('Список группы'!D12)&"."&LEFT('Список группы'!E12) -> Заляев К.З
A24: 9 | B24: ='Список группы'!C13&" "&LEFT('Список группы'!D13)&"."&LEFT('Список группы'!E13) -> Ильин Р.А
A25: 10 | B25: ='Список группы'!C14&" "&LEFT('Список группы'!D14)&"."&LEFT('Список группы'!E14) -> Рахимова К.Р
A26: 11 | B26: ='Список группы'!C15&" "&LEFT('Список группы'!D15)&"."&LEFT('Список группы'!E15) -> Салахутдинов А.А
A27: 12 | B27: ='Список группы'!C16&" "&LEFT('Список группы'!D16)&"."&LEFT('Список группы'!E16) -> Сапельникова Е.А
... A32: 17 | B32: ='Список группы'!C21&" "&LEFT('Список группы'!D21)&"."&LEFT('Список группы'!E21) -> Хафизов Р.Р
A33: 18 | B33: ='Список группы'!C22&" "&LEFT('Список группы'!D22)&"."&LEFT('Список группы'!E22) -> Хисамиев Т.А | K33: 82/У от 16.03.2020 отч.
A34: 19 | B34: ='Список группы'!C23&" "&LEFT('Список группы'!D23)&"."&LEFT('Список группы'!E23) -> Хуснутдинова Д.Р
A35: 20 | B35: ='Список группы'!C24&" "&LEFT('Список группы'!D24)&"."&LEFT('Список группы'!E24) -> Шакирова Л.И
A36: 21 | B36: ='Список группы'!C25&" "&LEFT('Список группы'!D25)&"."&LEFT('Список группы'!E25) -> Шакирова Э.Р
A37: 22 | B37: ='Список группы'!C26&" "&LEFT('Список группы'!D26)&"."&LEFT('Список группы'!E26) -> Шамсутдинов Р.Н
A38: 23 | B38: ='Список группы'!C27&" "&LEFT('Список группы'!D27)&"."&LEFT('Список группы'!E27) -> Ярусов Д.Е
A39: 24
B40: Отлично
B41: Хорошо
B42: Удовлетворительно
B43: Не удовлетворительно
B44: Не явка
B45: Абсол. успеваемость
B46: Кач.успеваемость
A48: Заведующий отделением | G48: (________________________)
C49: подпись | G49: ФИО

Sheet Протокол экзам.вед.ПМ
A1: ПРОТОКОЛ
A2: экзамена (квалификационного) по профессиональному модулю
B5: код и название модуля
A7: Специальность/профессии | C7: ='Сводная ведомость'!C9:K9 -> спец. 09.02.04"Информационные системы"
C8: код и наименование специальности/профессии
A9: ='Сводная ведомость'!A11 -> Группа 16И | C9: , курс обучения
A11: Дата проведения: "____" _______________ 20 __г.
A13: Форма проведения
A15: Председатель комиссии:
C16: И.О. Фамилия, должность
A17: Члены комиссии:
C18: И.О. Фамилия, должность
C20: И.О. Фамилия, должность
C22: И.О. Фамилия, должность
A23: Секретарь:
C24: И.О. Фамилия, должность
A26: № п/п | B26: Ф.И.О. студента | C26: ПК _________ | D26: ПК _________ | E26: ПК _________ | F26: ПК _________ | G26: ПК _________ | H26: ПК _________ | I26: ПК _________ | J26: Итоговая отметка | K26: Вид профессиональной деятельности (освоен/не освоен)
A27: 1 | B27: ='Список группы'!C16&" "&LEFT('Список группы'!D16)&"."&LEFT('Список группы'!E16) -> Сапельникова Е.А
A28: 2 | B28: ='Список группы'!C17&" "&LEFT('Список группы'!D17)&"."&LEFT('Список группы'!E17) -> Тазмиев И.Н
A29: 3 | B29: ='Список группы'!C18&" "&LEFT('Список группы'!D18)&"."&LEFT('Список группы'!E18) -> Тимергалиев И.Ф
A30: 4 | B30: ='Список группы'!C19&" "&LEFT('Список группы'!D19)&"."&LEFT('Список группы'!E19) -> Тихонов С.О
A31: 5 | B31: ='Список группы'!C20&" "&LEFT('Список группы'!D20)&"."&LEFT('Список группы'!E20) -> Хакимзянов Н.Ф
A32: 6 | B32: ='Список группы'!C21&" "&LEFT('Список группы'!D21)&"."&LEFT('Список группы'!E21) -> Хафизов Р.Р
A33: 7 | B33: ='Список группы'!C22&" "&LEFT('Список группы'!D22)&"."&LEFT('Список группы'!E22) -> Хисамиев Т.А
A34: 8 | B34: ='Список группы'!C23&" "&LEFT('Список группы'!D23)&"."&LEFT('Список группы'!E23) -> Хуснутдинова Д.Р
A35: 9 | B35: ='Список группы'!C24&" "&LEFT('Список группы'!D24)&"."&LEFT('Список группы'!E24) -> Шакирова Л.И
A36: 10 | B36: ='Список группы'!C25&" "&LEFT('Список группы'!D25)&"."&LEFT('Список группы'!E25) -> Шакирова Э.Р
A37: 11 | B37: ='Список группы'!C26&" "&LEFT('Список группы'!D26)&"."&LEFT('Список группы'!E26) -> Шамсутдинов Р.Н
A38: 12 | B38: ='Список группы'!C27&" "&LEFT('Список группы'!D27)&"."&LEFT('Список группы'!E27) -> Ярусов Д.Е
... A43: 17 | B43: ='Список группы'!C32&" "&LEFT('Список группы'!D32)&"."&LEFT('Список группы'!E32) -> .
A44: 18 | B44: ='Список группы'!C33&" "&LEFT('Список группы'!D33)&"."&LEFT('Список группы'!E33) -> . | J44: 82/У от 16.03.2020 отч.
A45: 19 | B45: ='Список группы'!C34&" "&LEFT('Список группы'!D34)&"."&LEFT('Список группы'!E34) -> .
A46: 20 | B46: ='Список группы'!C35&" "&LEFT('Список группы'!D35)&"."&LEFT('Список группы'!E35) -> .
A47: 21 | B47: ='Список группы'!C36&" "&LEFT('Список группы'!D36)&"."&LEFT('Список группы'!E36) -> .
A48: 22 | B48: ='Список группы'!C37&" "&LEFT('Список группы'!D37)&"."&LEFT('Список группы'!E37) -> .
A49: 23 | B49: ='Список группы'!C38&" "&LEFT('Список группы'!D38)&"."&LEFT('Список группы'!E38) -> .
A50: 24
B51: Отлично
B52: Хорошо
B53: Удовлетворительно
B54: Не удовлетворительно
B55: Не явка
B56: Абсол. успеваемость
B57: Кач.успеваемость
A59: Председатель комиссии: | G59: (________________________)
C60: подпись | G60: ФИО
A61: Члены комиссии: | G61: (________________________)
C62: подпись | G62: ФИО
G63: (________________________)
C64: подпись | G64: ФИО
G65: (________________________)
C66: подпись | G66: ФИО
A67: Секретарь: | G67: (________________________)
C68: подпись | G68: ФИО

Sheet Пр.эк.вед.ПМ с присв.Разряда
A1: ПРОТОКОЛ
A2: экзамена (квалификационного) по профессиональному модулю по освоению профессии рабочего (служащего)
B5: код и название модуля
A7: Специальность/профессии | C7: ='Сводная ведомость'!C9:K9 -> спец. 09.02.04"Информационные системы"
C8: код и наименование специальности/профессии
A9: ='Сводная ведомость'!A11 -> Группа 16И | C9: , курс обучения
A11: Дата проведения: "____" _______________ 20 __г.
A13: Форма проведения
A15: Председатель комиссии:
C16: И.О. Фамилия, должность
A17: Члены комиссии:
C18: И.О. Фамилия, должность
C20: И.О. Фамилия, должность
C22: И.О. Фамилия, должность
A23: Секретарь:
C24: И.О. Фамилия, должность
A26: № п/п | B26: Ф.И.О. студента | C26: ПК _________ | D26: ПК _________ | E26: ПК _________ | F26: ПК _________ | G26: ПК _________ | H26: ПК _________ | I26: ПК _________ | J26: Итоговая отметка | K26: Вид профессиональной деятельности (освоен/не освоен) | L26: Присвоенный разряд по профессии рабочего (служащего)
A27: 1 | B27: ='Список группы'!C16&" "&LEFT('Список группы'!D16)&"."&LEFT('Список группы'!E16) -> Сапельникова Е.А
A28: 2 | B28: ='Список группы'!C17&" "&LEFT('Список группы'!D17)&"."&LEFT('Список группы'!E17) -> Тазмиев И.Н
A29: 3 | B29: ='Список группы'!C18&" "&LEFT('Список группы'!D18)&"."&LEFT('Список группы'!E18) -> Тимергалиев И.Ф
A30: 4 | B30: ='Список группы'!C19&" "&LEFT('Список группы'!D19)&"."&LEFT('Список группы'!E19) -> Тихонов С.О
A31: 5 | B31: ='Список группы'!C20&" "&LEFT('Список группы'!D20)&"."&LEFT('Список группы'!E20) -> Хакимзянов Н.Ф
A32: 6 | B32: ='Список группы'!C21&" "&LEFT('Список группы'!D21)&"."&LEFT('Список группы'!E21) -> Хафизов Р.Р
A33: 7 | B33: ='Список группы'!C22&" "&LEFT('Список группы'!D22)&"."&LEFT('Список группы'!E22) -> Хисамиев Т.А
A34: 8 | B34: ='Список группы'!C23&" "&LEFT('Список группы'!D23)&"."&LEFT('Список группы'!E23) -> Хуснутдинова Д.Р
A35: 9 | B35: ='Список группы'!C24&" "&LEFT('Список группы'!D24)&"."&LEFT('Список группы'!E24) -> Шакирова Л.И
A36: 10 | B36: ='Список группы'!C25&" "&LEFT('Список группы'!D25)&"."&LEFT('Список группы'!E25) -> Шакирова Э.Р
A37: 11 | B37: ='Список группы'!C26&" "&LEFT('Список группы'!D26)&"."&LEFT('Список группы'!E26) -> Шамсутдинов Р.Н
A38: 12 | B38: ='Список группы'!C27&" "&LEFT('Список группы'!D27)&"."&LEFT('Список группы'!E27) -> Ярусов Д.Е
... A43: 17 | B43: ='Список группы'!C32&" "&LEFT('Список группы'!D32)&"."&LEFT('Список группы'!E32) -> .
A44: 18 | B44: ='Список группы'!C33&" "&LEFT('Список группы'!D33)&"."&LEFT('Список группы'!E33) -> . | K44: 82/У от 16.03.2020 отч.
A45: 19 | B45: ='Список группы'!C34&" "&LEFT('Список группы'!D34)&"."&LEFT('Список группы'!E34) -> .
A46: 20 | B46: ='Список группы'!C35&" "&LEFT('Список группы'!D35)&"."&LEFT('Список группы'!E35) -> .
A47: 21 | B47: ='Список группы'!C36&" "&LEFT('Список группы'!D36)&"."&LEFT('Список группы'!E36) -> .
A48: 22 | B48: ='Список группы'!C37&" "&LEFT('Список группы'!D37)&"."&LEFT('Список группы'!E37) -> .
A49: 23 | B49: ='Список группы'!C38&" "&LEFT('Список группы'!D38)&"."&LEFT('Список группы'!E38) -> .
A50: 24
B51: Отлично
B52: Хорошо
B53: Удовлетворительно
B54: Не удовлетворительно
B55: Не явка
B56: Абсол. успеваемость
B57: Кач.успеваемость
A59: Председатель комиссии: | G59: (________________________)
C60: подпись | G60: ФИО
A61: Члены комиссии: | G61: (________________________)
C62: подпись | G62: ФИО
G63: (________________________)
C64: подпись | G64: ФИО
G65: (________________________)
C66: подпись | G66: ФИО
A67: Секретарь: | G67: (________________________)
C68: подпись | G68: ФИО

Sheet ЭКЗ ведомость
A1: Государственное автономное профессиональное образовательное учреждение
A2: "Казанский авиационно-технический колледж имени П.В. Дементьева"
A4: Э К З А М Е Н А Ц И О Н Н А Я В Е Д О М О С Т Ь
C6: ='Сводная ведомость'!A11 -> Группа 16И | D6: ='[1]Сводная ведомость'!C11 -> , курс обучения
A8: по дисциплине
A10: ='[1]Протокол экзам.вед.ПМ'!A11 -> Дата проведения: "____" _______________ 20 __г.
C12: Экзаменатор (ы)
A15: № п/п | B15: № билета | C15: Ф.И.О. студента | D15: Ометка по экзамену письмено | E15: Отемка по экзамену устно | F15: Отметка по экзамену общая | G15: Подпись экзаменатора
A16: 1 | C16: Викторова Д.А
A17: 2 | C17: Галиакбарова А.Н
A18: 3 | C18: Гималетдинов Ф.Ф
A19: 4 | C19: Гурьянов С.А
A20: 5 | C20: Давлетгараев Ф.Ф
A21: 6 | C21: Данилин Г.Д
A22: 7 | C22: Жильцов Е.М.
A23: 8 | C23: Заляев К.З
A24: 9 | C24: Ильин Р.А
A25: 10 | C25: Рахимова К.Р
A26: 11 | C26: Салахутдинов А.А
A27: 12 | C27: Сапельникова Е.А
... A32: 17 | C32: Хафизов Р.Р
A33: 18 | C33: Хисамиев Т.А | G33: 82/У от 16.03.2020 отч.
A34: 19 | C34: Хуснутдинова Д.Р
A35: 20 | C35: Шакирова Л.И
A36: 21 | C36: Шакирова Э.Р
A37: 22 | C37: Шамсутдинов Р.Н
A38: 23 | C38: Ярусов Д.Е.
C40: Отлично
C41: Хорошо
C42: Удовлетворительно
C43: Не удовлетворительно
C44: Не явка
C45: Абсол. успеваемость
C46: Кач.успеваемость
A48: Экзаменатор (ры) | E48: (________________________)
D49: подпись | F49: ФИО
E51: (________________________)
D52: подпись | F52: ФИО
E54: (________________________)
D55: подпись | F55: ФИО

Sheet ДЗ ведомость
A1: Государственное автономное профессиональное образовательное учреждение
A2: "Казанский авиационно-технический колледж имени П.В. Дементьева"
A4: В Е Д О М О С Т Ь Д И Ф Ф Е Р Е Н Ц И Р О В А Н Н О Г О З А Ч Е Т А
C6: ='Сводная ведомость'!A11 -> Группа 16И
A8: по дисциплине
A10: ='[1]Протокол экзам.вед.ПМ'!A11 -> Дата проведения: "____" _______________ 20 __г.
C12: Преподаватель
A14: № п/п | B14: № билета | C14: Ф.И.О. студента | D14: Отметка по дифференцированному зачету | F14: Подпись преподавателя
A15: 1 | C15: Викторова Д.А
A16: 2 | C16: Галиакбарова А.Н
A17: 3 | C17: Гималетдинов Ф.Ф
A18: 4 | C18: Гурьянов С.А
A19: 5 | C19: Давлетгараев Ф.Ф
A20: 6 | C20: Данилин Г.Д
A21: 7 | C21: Жильцов Е.М.
A22: 8 | C22: Заляев К.З
A23: 9 | C23: Ильин Р.А
A24: 10 | C24: Рахимова К.Р
A25: 11 | C25: Салахутдинов А.А
A26: 12 | C26: Сапельникова Е.А
... A31: 17 | C31: Хафизов Р.Р
A32: 18 | C32: Хисамиев Т.А | F32: 82/У от 16.03.2020 отч.
A33: 19 | C33: Хуснутдинова Д.Р
A34: 20 | C34: Шакирова Л.И
A35: 21 | C35: Шакирова Э.Р
A36: 22 | C36: Шамсутдинов Р.Н
A37: 23 | C37: Ярусов Д.Е.
A38: 24
A39: 25
C40: Отлично
C41: Хорошо
C42: Удовлетворительно
C43: Не удовлетворительно
C44: Не явка
C45: Абсол. успеваемость
C46: Кач.успеваемость
A48: Преподаватель | D48: (________________________)
E49: ФИО
